BEGIN:VCALENDAR
VERSION:2.0
PRODID:-//Squarespace Inc/Squarespace 6//v6//EN
BEGIN:VEVENT
UID:536c2a5de4b05c9aa1619784@squarespace.com
DTSTAMP:20140509T010752Z
DTSTART:20140607T233000Z
DTEND:20140608T113000Z
SUMMARY:Sunday Roast
END:VEVENT
END:VCALENDAR
