BEGIN:VCALENDAR
VERSION:2.0
PRODID:-//Squarespace Inc/Squarespace 6//v6//EN
BEGIN:VEVENT
UID:53619effe4b039ef27718b55@squarespace.com
DTSTAMP:20140501T011827Z
DTSTART:20140607T063000Z
DTEND:20140607T093000Z
SUMMARY:ALL BLACKS vs England
END:VEVENT
END:VCALENDAR
