BEGIN:VCALENDAR
VERSION:2.0
PRODID:-//Squarespace Inc/Squarespace 6//v6//EN
BEGIN:VEVENT
UID:53756746e4b074c2fd217558@squarespace.com
DTSTAMP:20140516T011904Z
DTSTART:20140603T070000Z
DTEND:20140603T100000Z
SUMMARY:QUIZ NIGHT
END:VEVENT
END:VCALENDAR
