BEGIN:VCALENDAR
VERSION:2.0
PRODID:-//Squarespace Inc/Squarespace 6//v6//EN
BEGIN:VEVENT
UID:5306568de4b02a8f5ee25644@squarespace.com
DTSTAMP:20140220T192530Z
DTSTART:20140308T223000Z
DTEND:20140309T105900Z
SUMMARY:Sunday Roast
END:VEVENT
END:VCALENDAR
