BEGIN:VCALENDAR
VERSION:2.0
PRODID:-//Squarespace Inc/Squarespace 6//v6//EN
BEGIN:VEVENT
UID:5306709be4b00743440626bb@squarespace.com
DTSTAMP:20140220T212729Z
DTSTART:20140304T060000Z
DTEND:20140304T090000Z
SUMMARY:QUIZ NIGHT: Check out our facebook page for the Cryptic Clues
END:VEVENT
END:VCALENDAR
