BEGIN:VCALENDAR
VERSION:2.0
PRODID:-//Squarespace Inc/Squarespace 6//v6//EN
BEGIN:VEVENT
UID:53065658e4b00f0664aef32b@squarespace.com
DTSTAMP:20140220T192448Z
DTSTART:20140301T223000Z
DTEND:20140302T105900Z
SUMMARY:Sunday Roast
END:VEVENT
END:VCALENDAR
