BEGIN:VCALENDAR
VERSION:2.0
PRODID:-//Squarespace Inc/Squarespace 6//v6//EN
BEGIN:VEVENT
UID:53067259e4b09e63a23d99d4@squarespace.com
DTSTAMP:20140220T212738Z
DTSTART:20140318T060000Z
DTEND:20140318T090000Z
SUMMARY:QUIZ NIGHT: Cryptic Clues on our facebook page
END:VEVENT
END:VCALENDAR
