BEGIN:VCALENDAR
VERSION:2.0
PRODID:-//Squarespace Inc/Squarespace 6//v6//EN
BEGIN:VEVENT
UID:53066034e4b0b4d1ce2da128@squarespace.com
DTSTAMP:20140220T200643Z
DTSTART:20140315T223000Z
DTEND:20140316T105900Z
SUMMARY:Sunday Roast
END:VEVENT
END:VCALENDAR
