BEGIN:VCALENDAR
VERSION:2.0
PRODID:-//Squarespace Inc/Squarespace 6//v6//EN
BEGIN:VEVENT
UID:52d6e732e4b0edcb252c17c6@squarespace.com
DTSTAMP:20140115T195337Z
DTSTART:20140208T210000Z
DTEND:20140209T105500Z
SUMMARY:Sunday Roast
END:VEVENT
END:VCALENDAR
