BEGIN:VCALENDAR
VERSION:2.0
PRODID:-//Squarespace Inc/Squarespace 6//v6//EN
BEGIN:VEVENT
UID:52d6e8bbe4b0f7cacc7570cb@squarespace.com
DTSTAMP:20140115T200037Z
DTSTART:20140204T060000Z
DTEND:20140204T090000Z
SUMMARY:Quiz Night
END:VEVENT
END:VCALENDAR
