BEGIN:VCALENDAR
VERSION:2.0
PRODID:-//Squarespace Inc/Squarespace 6//v6//EN
BEGIN:VEVENT
UID:530659e8e4b01d0d592a1749@squarespace.com
DTSTAMP:20140220T205841Z
DTSTART:20140226T063000Z
DTEND:20140226T093000Z
SUMMARY:ConArtists Comedy Night
END:VEVENT
END:VCALENDAR
