BEGIN:VCALENDAR
VERSION:2.0
PRODID:-//Squarespace Inc/Squarespace 6//v6//EN
BEGIN:VEVENT
UID:52d6e966e4b07ee3a1c2c524@squarespace.com
DTSTAMP:20140220T212715Z
DTSTART:20140225T060000Z
DTEND:20140225T090000Z
SUMMARY:Quiz Night
END:VEVENT
END:VCALENDAR
