BEGIN:VCALENDAR
VERSION:2.0
PRODID:-//Squarespace Inc/Squarespace 6//v6//EN
BEGIN:VEVENT
UID:5306713ee4b02a8f5ee29b12@squarespace.com
DTSTAMP:20140430T075853Z
DTSTART:20140311T060000Z
DTEND:20140311T090000Z
SUMMARY:QUIZ NIGHT: Cryptic Clues on our facebook page
END:VEVENT
END:VCALENDAR
