BEGIN:VCALENDAR
VERSION:2.0
PRODID:-//Squarespace Inc/Squarespace 6//v6//EN
BEGIN:VEVENT
UID:530671f5e4b09e63a23d98b7@squarespace.com
DTSTAMP:20140220T212711Z
DTSTART:20140220T213000Z
DTEND:20140220T223000Z
SUMMARY:QUIZ NIGHT: Check out our facebook page for Cryptic Clues
END:VEVENT
END:VCALENDAR
