BEGIN:VCALENDAR
VERSION:2.0
PRODID:-//Squarespace Inc/Squarespace 6//v6//EN
BEGIN:VEVENT
UID:52d6e553e4b0e230ac8a9a07@squarespace.com
DTSTAMP:20140115T194920Z
DTSTART:20140221T050000Z
DTEND:20140221T105500Z
SUMMARY:CENTRAL CITY SINGLES FRIDAY DRINKS & DANCING
END:VEVENT
END:VCALENDAR
