BEGIN:VCALENDAR
VERSION:2.0
PRODID:-//Squarespace Inc/Squarespace 6//v6//EN
BEGIN:VEVENT
UID:52d6e724e4b00cdc6448f1e3@squarespace.com
DTSTAMP:20140115T195308Z
DTSTART:20140201T210000Z
DTEND:20140202T105500Z
SUMMARY:Sunday Roast
END:VEVENT
END:VCALENDAR
