BEGIN:VCALENDAR
VERSION:2.0
PRODID:-//Squarespace Inc/Squarespace 6//v6//EN
BEGIN:VEVENT
UID:52d6e930e4b065c7c0eb1def@squarespace.com
DTSTAMP:20140115T200211Z
DTSTART:20140218T060000Z
DTEND:20140218T090000Z
SUMMARY:Quiz Night
END:VEVENT
END:VCALENDAR
