BEGIN:VCALENDAR
VERSION:2.0
PRODID:-//Squarespace Inc/Squarespace 6//v6//EN
BEGIN:VEVENT
UID:52d6e74fe4b03b8d5527d338@squarespace.com
DTSTAMP:20140220T192259Z
DTSTART:20140215T210000Z
DTEND:20140216T105500Z
SUMMARY:Sunday Roast
END:VEVENT
END:VCALENDAR
