BEGIN:VCALENDAR
VERSION:2.0
PRODID:-//Squarespace Inc/Squarespace 6//v6//EN
BEGIN:VEVENT
UID:52d6e9f6e4b09a1f1b0984e6@squarespace.com
DTSTAMP:20140120T233316Z
DTSTART:20140214T210000Z
DTEND:20140216T105500Z
SUMMARY:NRL Auckland Nines
END:VEVENT
END:VCALENDAR
