BEGIN:VCALENDAR
VERSION:2.0
PRODID:-//Squarespace Inc/Squarespace 6//v6//EN
BEGIN:VEVENT
UID:52d6e8f4e4b09a1f1b09825f@squarespace.com
DTSTAMP:20140115T200138Z
DTSTART:20140211T060000Z
DTEND:20140211T090000Z
SUMMARY:Quiz Night
END:VEVENT
END:VCALENDAR
