BEGIN:VCALENDAR
VERSION:2.0
PRODID:-//Squarespace Inc/Squarespace 6//v6//EN
BEGIN:VEVENT
UID:52d6e5dde4b00cdc6448ee52@squarespace.com
DTSTAMP:20140115T194935Z
DTSTART:20140104T210000Z
DTEND:20140105T105500Z
SUMMARY:Sunday Roast
END:VEVENT
END:VCALENDAR
