BEGIN:VCALENDAR
VERSION:2.0
PRODID:-//Squarespace Inc/Squarespace 6//v6//EN
BEGIN:VEVENT
UID:52d6e8a0e4b0cca89697e676@squarespace.com
DTSTAMP:20140115T195941Z
DTSTART:20140128T060000Z
DTEND:20140128T090000Z
SUMMARY:Quiz Night
END:VEVENT
END:VCALENDAR
