BEGIN:VCALENDAR
VERSION:2.0
PRODID:-//Squarespace Inc/Squarespace 6//v6//EN
BEGIN:VEVENT
UID:52d6e684e4b00babd0877373@squarespace.com
DTSTAMP:20140115T195224Z
DTSTART:20140126T210000Z
DTEND:20140126T225500Z
SUMMARY:Auckland Anniversary Day - No Public holiday surcharge
END:VEVENT
END:VCALENDAR
