BEGIN:VCALENDAR
VERSION:2.0
PRODID:-//Squarespace Inc/Squarespace 6//v6//EN
BEGIN:VEVENT
UID:52d6e65ee4b0e230ac8a9c99@squarespace.com
DTSTAMP:20140115T195839Z
DTSTART:20140125T210000Z
DTEND:20140126T105500Z
SUMMARY:Sunday Roast
END:VEVENT
END:VCALENDAR
