BEGIN:VCALENDAR
VERSION:2.0
PRODID:-//Squarespace Inc/Squarespace 6//v6//EN
BEGIN:VEVENT
UID:52d6e7d8e4b00cdc6448f405@squarespace.com
DTSTAMP:20140115T195749Z
DTSTART:20140121T060000Z
DTEND:20140121T090000Z
SUMMARY:Quiz Night
END:VEVENT
END:VCALENDAR
