BEGIN:VCALENDAR
VERSION:2.0
PRODID:-//Squarespace Inc/Squarespace 6//v6//EN
BEGIN:VEVENT
UID:52d6e62ce4b0e230ac8a9c28@squarespace.com
DTSTAMP:20140115T194915Z
DTSTART:20140118T210000Z
DTEND:20140119T105500Z
SUMMARY:Sunday Roast
END:VEVENT
END:VCALENDAR
