BEGIN:VCALENDAR
VERSION:2.0
PRODID:-//Squarespace Inc/Squarespace 6//v6//EN
BEGIN:VEVENT
UID:52d6e7a0e4b00babd087763e@squarespace.com
DTSTAMP:20140115T195554Z
DTSTART:20140114T060000Z
DTEND:20140114T090000Z
SUMMARY:Quiz Night is Back for 2014!!!
END:VEVENT
END:VCALENDAR
