BEGIN:VCALENDAR
VERSION:2.0
PRODID:-//Squarespace Inc/Squarespace 6//v6//EN
BEGIN:VEVENT
UID:52d6e61de4b02172ccab2c13@squarespace.com
DTSTAMP:20140115T194931Z
DTSTART:20140111T210000Z
DTEND:20140112T105500Z
SUMMARY:Sunday Roast
END:VEVENT
END:VCALENDAR
