BEGIN:VCALENDAR
VERSION:2.0
PRODID:-//Squarespace Inc/Squarespace 6//v6//EN
BEGIN:VEVENT
UID:52855085e4b0f66b4d0e2c9d@squarespace.com
DTSTAMP:20131114T223903Z
DTSTART:20131130T223000Z
DTEND:20131130T233000Z
SUMMARY:Sunday Roast
END:VEVENT
END:VCALENDAR
