BEGIN:VCALENDAR
VERSION:2.0
PRODID:-//Squarespace Inc/Squarespace 6//v6//EN
BEGIN:VEVENT
UID:5285514ce4b0e717450bc344@squarespace.com
DTSTAMP:20140115T194706Z
DTSTART:20131228T230000Z
DTEND:20131229T000000Z
SUMMARY:Sunday Roast
END:VEVENT
END:VCALENDAR
