BEGIN:VCALENDAR
VERSION:2.0
PRODID:-//Squarespace Inc/Squarespace 6//v6//EN
BEGIN:VEVENT
UID:529648d6e4b05482b01894f5@squarespace.com
DTSTAMP:20131127T193641Z
DTSTART:20131224T110100Z
DTEND:20131225T105900Z
SUMMARY:H&T Closed for the day - Merry Chirstmas
END:VEVENT
END:VCALENDAR
