BEGIN:VCALENDAR
VERSION:2.0
PRODID:-//Squarespace Inc/Squarespace 6//v6//EN
BEGIN:VEVENT
UID:5296470ce4b0a5b6da03b8d3@squarespace.com
DTSTAMP:20131127T193523Z
DTSTART:20131224T030000Z
DTEND:20131224T105900Z
SUMMARY:H&T Orphan's Christmas Party
END:VEVENT
END:VCALENDAR
