BEGIN:VCALENDAR
VERSION:2.0
PRODID:-//Squarespace Inc/Squarespace 6//v6//EN
BEGIN:VEVENT
UID:528550b9e4b05ccdccc5a451@squarespace.com
DTSTAMP:20131114T223849Z
DTSTART:20131214T230000Z
DTEND:20131215T000000Z
SUMMARY:Sunday Roast
END:VEVENT
END:VCALENDAR
