BEGIN:VCALENDAR
VERSION:2.0
PRODID:-//Squarespace Inc/Squarespace 6//v6//EN
BEGIN:VEVENT
UID:528550a3e4b0f66b4d0e2cd5@squarespace.com
DTSTAMP:20131114T223856Z
DTSTART:20131207T230000Z
DTEND:20131208T000000Z
SUMMARY:Sunday Roast
END:VEVENT
END:VCALENDAR
