BEGIN:VCALENDAR
VERSION:2.0
PRODID:-//Squarespace Inc/Squarespace 6//v6//EN
BEGIN:VEVENT
UID:5285506be4b0f66b4d0e2c6d@squarespace.com
DTSTAMP:20131114T223952Z
DTSTART:20131221T223000Z
DTEND:20131221T233000Z
SUMMARY:Sunday Roast
END:VEVENT
END:VCALENDAR
