BEGIN:VCALENDAR
VERSION:2.0
PRODID:-//Squarespace Inc/Squarespace 6//v6//EN
BEGIN:VEVENT
UID:52855203e4b0975b1b068bfa@squarespace.com
DTSTAMP:20131114T224339Z
DTSTART:20131129T050000Z
DTEND:20131129T060000Z
SUMMARY:Central City Singles Friday Drinks & Dancing
END:VEVENT
END:VCALENDAR
