BEGIN:VCALENDAR
VERSION:2.0
PRODID:-//Squarespace Inc/Squarespace 6//v6//EN
BEGIN:VEVENT
UID:5278a862e4b0c3d269fd2f33@squarespace.com
DTSTAMP:20131105T081236Z
DTSTART:20131126T040000Z
DTEND:20131126T060000Z
SUMMARY:$15 Dinner Menu
END:VEVENT
END:VCALENDAR
