BEGIN:VCALENDAR
VERSION:2.0
PRODID:-//Squarespace Inc/Squarespace 6//v6//EN
BEGIN:VEVENT
UID:52855052e4b0f66b4d0e2c40@squarespace.com
DTSTAMP:20131114T223825Z
DTSTART:20131123T223000Z
DTEND:20131123T233000Z
SUMMARY:Sunday Roast
END:VEVENT
END:VCALENDAR
