BEGIN:VCALENDAR
VERSION:2.0
PRODID:-//Squarespace Inc/Squarespace 6//v6//EN
BEGIN:VEVENT
UID:5278a90be4b06f353fae46a4@squarespace.com
DTSTAMP:20131114T224547Z
DTSTART:20131119T060000Z
DTEND:20131119T090000Z
SUMMARY:Quiz Night
END:VEVENT
END:VCALENDAR
