BEGIN:VCALENDAR
VERSION:2.0
PRODID:-//Squarespace Inc/Squarespace 6//v6//EN
BEGIN:VEVENT
UID:52855167e4b0e717450bc37a@squarespace.com
DTSTAMP:20131114T224110Z
DTSTART:20131116T223000Z
DTEND:20131116T233000Z
SUMMARY:Sunday Roast
END:VEVENT
END:VCALENDAR
