BEGIN:VCALENDAR
VERSION:2.0
PRODID:-//Squarespace Inc/Squarespace 6//v6//EN
BEGIN:VEVENT
UID:52854f92e4b08b1cf59617c2@squarespace.com
DTSTAMP:20131114T223935Z
DTSTART:20131109T223000Z
DTEND:20131109T233000Z
SUMMARY:Sunday Roast
END:VEVENT
END:VCALENDAR
