BEGIN:VCALENDAR
VERSION:2.0
PRODID:-//Squarespace Inc/Squarespace 6//v6//EN
BEGIN:VEVENT
UID:52827c14e4b0fde6b601b934@squarespace.com
DTSTAMP:20131112T191127Z
DTSTART:20131113T200000Z
DTEND:20131113T220000Z
SUMMARY:All Whites vs. Mexico
END:VEVENT
END:VCALENDAR
