BEGIN:VCALENDAR
VERSION:2.0
PRODID:-//Squarespace Inc/Squarespace 6//v6//EN
BEGIN:VEVENT
UID:5278a8cfe4b09dc8b95ee4f9@squarespace.com
DTSTAMP:20131105T081437Z
DTSTART:20131112T060000Z
DTEND:20131112T090000Z
SUMMARY:Quiz Night
END:VEVENT
END:VCALENDAR
