BEGIN:VCALENDAR
VERSION:2.0
PRODID:-//Squarespace Inc/Squarespace 6//v6//EN
BEGIN:VEVENT
UID:5278a7dbe4b03eaed42a5ff0@squarespace.com
DTSTAMP:20131105T081054Z
DTSTART:20131112T040000Z
DTEND:20131112T060000Z
SUMMARY:$15 Dinner Menu
END:VEVENT
END:VCALENDAR
