BEGIN:VCALENDAR
VERSION:2.0
PRODID:-//Squarespace Inc/Squarespace 6//v6//EN
BEGIN:VEVENT
UID:52620e83e4b070ba824251ca@squarespace.com
DTSTAMP:20131019T044752Z
DTSTART:20131022T110000Z
DTEND:20131022T140000Z
SUMMARY:Quiz Night
END:VEVENT
END:VCALENDAR
