BEGIN:VCALENDAR
VERSION:2.0
PRODID:-//Squarespace Inc/Squarespace 6//v6//EN
BEGIN:VEVENT
UID:52620da9e4b0bb6d9c2bf1e9@squarespace.com
DTSTAMP:20131114T223841Z
DTSTART:20131020T020000Z
DTEND:20131020T150000Z
SUMMARY:Sunday Roast
END:VEVENT
END:VCALENDAR
