BEGIN:VCALENDAR
VERSION:2.0
PRODID:-//Squarespace Inc/Squarespace 6//v6//EN
BEGIN:VEVENT
UID:52620f18e4b0ef926ee4312b@squarespace.com
DTSTAMP:20131019T044951Z
DTSTART:20131019T050000Z
DTEND:20131019T170000Z
SUMMARY:$20 Pizza & Pint (or Pinot)
END:VEVENT
END:VCALENDAR
